BEGIN:VCALENDAR
VERSION:2.0
PRODID:-//Cordwainer Ward - ECPv6.15.19//NONSGML v1.0//EN
CALSCALE:GREGORIAN
METHOD:PUBLISH
X-ORIGINAL-URL:https://www.joycegsarpong.com
X-WR-CALDESC:Events for Cordwainer Ward
REFRESH-INTERVAL;VALUE=DURATION:PT1H
X-Robots-Tag:noindex
X-PUBLISHED-TTL:PT1H
BEGIN:VTIMEZONE
TZID:UTC
BEGIN:STANDARD
TZOFFSETFROM:+0000
TZOFFSETTO:+0000
TZNAME:UTC
DTSTART:20250101T000000
END:STANDARD
END:VTIMEZONE
BEGIN:VEVENT
DTSTART;TZID=UTC:20260319T120000
DTEND;TZID=UTC:20260319T150000
DTSTAMP:20260422T084804
CREATED:20260103T165745Z
LAST-MODIFIED:20260218T095719Z
UID:6317-1773921600-1773932400@www.joycegsarpong.com
SUMMARY:AGM and Luncheon 2026
DESCRIPTION:
URL:https://www.joycegsarpong.com/event1/agm-and-luncheon-2/
LOCATION:Tallows Hall\, 4 Dowgate Hill\, London\, EC4R 2SH
END:VEVENT
END:VCALENDAR